BEGIN:VCALENDAR
VERSION:2.0
CALSCALE:GREGORIAN
METHOD:PUBLISH
PRODID://FDNY//201668
BEGIN:VEVENT
DTSTAMP:20260424T120509
VTIMEZONE:America/New_York
DTSTART:20260516T120000Z
DTEND:20260516T190000Z
UID:201668
SUMMARY:Commissioner Training - Keeseville Fire Department
LOCATION:Keeseville Fire Department, 8 Pleasant Street, Keeseville, NY, 12944
DESCRIPTION:Commissioner Training - Keeseville Fire Department\n\n05/16/26 08:00 AM EST\n - 05/16/26 03:00 PM EST\Description:\nCommissioner training as required by NYS OCS\nInstructor: Greg Serio\Location:\nKeeseville Fire Department\n8 Pleasant Street\nKeeseville, NY 12944
X-ALT-DESC;FMTTYPE=text/html:Commissioner Training - Keeseville Fire Department<br /><br />05/16/26 08:00 AM EST - 05/16/26 03:00 PM EST<br />Description:<br />Commissioner training as required by NYS OCS<br />
Instructor: Greg Serio<br />Location:<br />Keeseville Fire Department<br />8 Pleasant Street<br />Keeseville, NY 12944
PRIORITY:3
TRANSP:TRANSPARENT
BEGIN:VALARM
TRIGGER:-PT5M
ACTION:DISPLAY
DESCRIPTION:Reminder
END:VALARM
END:VEVENT
END:VCALENDAR
